BEGIN:VCALENDAR
VERSION:2.0
PRODID:-//Auzeville-Tolosane - ECPv6.15.13//NONSGML v1.0//EN
CALSCALE:GREGORIAN
METHOD:PUBLISH
X-ORIGINAL-URL:https://www.auzeville.fr
X-WR-CALDESC:Évènements pour Auzeville-Tolosane
REFRESH-INTERVAL;VALUE=DURATION:PT1H
X-Robots-Tag:noindex
X-PUBLISHED-TTL:PT1H
BEGIN:VTIMEZONE
TZID:Europe/Paris
BEGIN:DAYLIGHT
TZOFFSETFROM:+0100
TZOFFSETTO:+0200
TZNAME:CEST
DTSTART:20240331T010000
END:DAYLIGHT
BEGIN:STANDARD
TZOFFSETFROM:+0200
TZOFFSETTO:+0100
TZNAME:CET
DTSTART:20241027T010000
END:STANDARD
BEGIN:DAYLIGHT
TZOFFSETFROM:+0100
TZOFFSETTO:+0200
TZNAME:CEST
DTSTART:20250330T010000
END:DAYLIGHT
BEGIN:STANDARD
TZOFFSETFROM:+0200
TZOFFSETTO:+0100
TZNAME:CET
DTSTART:20251026T010000
END:STANDARD
BEGIN:DAYLIGHT
TZOFFSETFROM:+0100
TZOFFSETTO:+0200
TZNAME:CEST
DTSTART:20260329T010000
END:DAYLIGHT
BEGIN:STANDARD
TZOFFSETFROM:+0200
TZOFFSETTO:+0100
TZNAME:CET
DTSTART:20261025T010000
END:STANDARD
END:VTIMEZONE
BEGIN:VEVENT
DTSTART;TZID=Europe/Paris:20251005T090000
DTEND;TZID=Europe/Paris:20251005T170000
DTSTAMP:20260419T191839
CREATED:20250828T092417Z
LAST-MODIFIED:20251003T084151Z
UID:21595-1759654800-1759683600@www.auzeville.fr
SUMMARY:Vide greniers et vide plantes
DESCRIPTION:
URL:https://www.auzeville.fr/evenement/vide-greniers/
LOCATION:Place Tolosane\, Place Tolosane\, Auzeville-Tolosane\, 31320\, France
CATEGORIES:Foyer Rural René Lavergne
ATTACH;FMTTYPE=image/png:https://www.auzeville.fr/wp-content/uploads/2025/08/Vide-Greniers-1.png
ORGANIZER;CN="Foyer Rural Ren%C3%A9 Lavergne":MAILTO:contact@foyerruralauzeville.org
END:VEVENT
BEGIN:VEVENT
DTSTART;VALUE=DATE:20251006
DTEND;VALUE=DATE:20251011
DTSTAMP:20260419T191839
CREATED:20251003T095738Z
LAST-MODIFIED:20251003T095738Z
UID:21741-1759708800-1760140799@www.auzeville.fr
SUMMARY:Semaine Bleue : déjeuner offert au restaurant scolaire
DESCRIPTION:Lundi 6 octobre\nMardi 7 octobre\nJeudi 9 octobre\nVendredi 10 octobre\n\nVenez déjeuner au restaurant scolaire dans le cadre de la semaine bleue 2025 ! \nInscriptions directement au CCAS : 05 61 73 53 10 ou ccas.mairie@auzeville31.fr
URL:https://www.auzeville.fr/evenement/semaine-bleue-dejeuner-offert-au-restaurant-scolaire/
LOCATION:Restaurant scolaire Aimé Césaire\, 1 Allée Ville Tarn\, Auzeville-Tolosane\, 31320
CATEGORIES:Autres événements,Sociale
ATTACH;FMTTYPE=image/png:https://www.auzeville.fr/wp-content/uploads/2025/10/Affiche-Dejeuner-offert-SB-2025.png
ORGANIZER;CN="Commune d'Auzeville-Tolosane":MAILTO:accueil.mairie@auzeville31.fr
END:VEVENT
BEGIN:VEVENT
DTSTART;TZID=Europe/Paris:20251006T100000
DTEND;TZID=Europe/Paris:20251006T123000
DTSTAMP:20260419T191839
CREATED:20251003T100112Z
LAST-MODIFIED:20251003T100112Z
UID:21743-1759744800-1759753800@www.auzeville.fr
SUMMARY:Atelier : parler de son handicap en entretien d'embauche
DESCRIPTION:Animé par Cap Emploi Haute-Garonne\, cet atelier aura lieu le 6 octobre de 10 h à 12 h 30 à l’Espace Emploi Formation du Sicoval. \nIl a pour objectifs d’amener les participants à savoir :\n– s’ils doivent mentionner la RQTH sur leur CV et de quelle manière ;\n– aborder leur handicap en entretien avec un argumentaire construit et positif ;\n– s’il est important de le mentionner sur la lettre de motivation. \nD’une manière plus générale\, les participants seront en mesure de parler de leur RQTH en termes positifs\, factuels\, et de savoir aborder leurs besoins de compensation.\nInscriptions en cliquant ici. \nPour plus d’informations : 05 61 28 71 10.
URL:https://www.auzeville.fr/evenement/atelier-parler-de-son-handicap-en-entretien-dembauche/
LOCATION:Espace Emploi Formation du Sicoval\, 25 rue Pierre Gilles de Gennes Village d'entreprise bâtiment 10\, Labège\, 31670\, France
CATEGORIES:Autres événements,Information du Sicoval,Sociale
END:VEVENT
BEGIN:VEVENT
DTSTART;TZID=Europe/Paris:20251007T203000
DTEND;TZID=Europe/Paris:20251007T233000
DTSTAMP:20260419T191839
CREATED:20251003T082124Z
LAST-MODIFIED:20251003T084725Z
UID:21678-1759869000-1759879800@www.auzeville.fr
SUMMARY:Conférence-Film sur les évasions de France par les Pyrénées pendant l'occupation
DESCRIPTION:On ne sait combien ils furent\, pendant l’Occupation\, à franchir les Pyrénées. Probablement plus de 80 000 personnes. Mais les motivations de ces Femmes et de ces Hommes sont connues.\nFuites pour éviter l’arrestation et la déportation\, désir de se battre contre l’occupant sur d’autres terrains\, refus du travail obligatoire en Allemagne…Toulouse et le Sud-Ouest ont joué un rôle considérable dans ces temps troublés. Journaliste et conférencier\, Pierre Estournel viendra évoquer ces évènements et présenter un film documentaire dont il est l’auteur\, tourné en partie en Ariège sur les traces de son père lui-même évadé en 1943 et dont il possède le récit. \nEntrée libre\, collecte organisée sur place au profit de l’association toulousaine Takolt-Nakarass-Agir pour l’Aïr\, qui travaille pour apporter différentes aides (situations d’urgence\, aides au développement) aux habitants des villages de l’Aïr (Nord d’Agadez\, Abalama). \nSalle de la Durante\, 1 chemin du moulin Armand\, mardi 7 octobre à 20h30.\nhttps://takolt-nakarass.org/
URL:https://www.auzeville.fr/evenement/conference-film-sur-les-evasions-de-france-par-les-pyrenees-pendant-loccupation/
LOCATION:salle de la Durante\, 1\, chemin du Moulin Armand\, Auzeville-Tolosane\, 31320\, France
CATEGORIES:Conférence - Débat
ATTACH;FMTTYPE=image/png:https://www.auzeville.fr/wp-content/uploads/2025/10/Pyrenees-cirque-gavarnie-conference-film.png
END:VEVENT
BEGIN:VEVENT
DTSTART;TZID=Europe/Paris:20251010T200000
DTEND;TZID=Europe/Paris:20251010T220000
DTSTAMP:20260419T191839
CREATED:20251003T082534Z
LAST-MODIFIED:20251003T084610Z
UID:21681-1760126400-1760133600@www.auzeville.fr
SUMMARY:3e anniversaire du Café de la Vigne | Concert des Indécis
DESCRIPTION:Venez célébrer le 3ᵉ anniversaire du Café de la Vigne vendredi 10 octobre\, de 20h à 22h\, place de la Mairie-Vieille ! Au programme : un concert live avec Les Indécis\, le groupe local d’Escalquens\, pour une soirée festive et chaleureuse. Entrée libre – Tous publics. \nVenez nombreux ! \n 
URL:https://www.auzeville.fr/evenement/3e-anniversaire-du-cafe-de-la-vigne-concert-des-indecis/
LOCATION:Place de la Mairie Vieille\, Place de la Mairie Vieille\, Auzeville-Tolosane\, 31320
CATEGORIES:Association,Concert,Fêtes et cérémonies
ATTACH;FMTTYPE=image/png:https://www.auzeville.fr/wp-content/uploads/2025/10/Cafe-de-la-Vigne.png
ORGANIZER;CN="Caf%C3%A9 de la Vigne":MAILTO:cafecitoyen.auzeville@gmail.com
END:VEVENT
BEGIN:VEVENT
DTSTART;TZID=Europe/Paris:20251011T110000
DTEND;TZID=Europe/Paris:20251011T230000
DTSTAMP:20260419T191839
CREATED:20251003T083116Z
LAST-MODIFIED:20251003T084233Z
UID:21683-1760180400-1760223600@www.auzeville.fr
SUMMARY:Octobre Rose 2025
DESCRIPTION:11 h-18 h : atelier bien-être \n19h-30 : repas partagé \n21 h : spectacle « Carrément méchantes jamais contentes » à partir de 14 ans \nParticipation libre au profit d’Octobre Rose
URL:https://www.auzeville.fr/evenement/octobre-rose-2025/
LOCATION:Le Triporteur\, 110 impasse Jeanne Barret\, Auzeville\, 31320\, France
CATEGORIES:Association,Fêtes et cérémonies,Sociale,Théâtre
ATTACH;FMTTYPE=image/jpeg:https://www.auzeville.fr/wp-content/uploads/2025/10/Octobre-rose-2025-theatre-triporteur.jpg
END:VEVENT
BEGIN:VEVENT
DTSTART;TZID=Europe/Paris:20251015T203000
DTEND;TZID=Europe/Paris:20251015T223000
DTSTAMP:20260419T191839
CREATED:20251003T090903Z
LAST-MODIFIED:20251003T090903Z
UID:21705-1760560200-1760567400@www.auzeville.fr
SUMMARY:Conseil municipal d'octobre 2025
DESCRIPTION:
URL:https://www.auzeville.fr/evenement/conseil-municipal-doctobre-2025/
LOCATION:Mairie\, 8\, allée de la Durante\, Auzeville-Tolosane\, 31320\, France
CATEGORIES:Conseil Municipal
ATTACH;FMTTYPE=image/png:https://www.auzeville.fr/wp-content/uploads/2022/12/cropped-icone.png
ORGANIZER;CN="Commune d'Auzeville-Tolosane":MAILTO:accueil.mairie@auzeville31.fr
END:VEVENT
BEGIN:VEVENT
DTSTART;TZID=Europe/Paris:20251016T150000
DTEND;TZID=Europe/Paris:20251016T163000
DTSTAMP:20260419T191839
CREATED:20251003T083736Z
LAST-MODIFIED:20251003T090513Z
UID:21688-1760626800-1760632200@www.auzeville.fr
SUMMARY:Atelier numérique : l'art de prompter
DESCRIPTION:Atelier gratuit sur inscription à partir de 12 ans.
URL:https://www.auzeville.fr/evenement/atelier-numerique-lart-de-prompter/
LOCATION:Médiathèque Mireille Soulé\, 11\, allée du viognier\, Auzeville-Tolosane\, 31320\, France
CATEGORIES:Médiathèque
ATTACH;FMTTYPE=image/jpeg:https://www.auzeville.fr/wp-content/uploads/2025/01/logo-mediatheque.jpg
ORGANIZER;CN="M%C3%A9diath%C3%A8que d'Auzeville Tolosane":MAILTO:mediatheque@auzeville31.fr
END:VEVENT
BEGIN:VEVENT
DTSTART;VALUE=DATE:20251018
DTEND;VALUE=DATE:20251020
DTSTAMP:20260419T191839
CREATED:20251003T094449Z
LAST-MODIFIED:20251003T094603Z
UID:21733-1760745600-1760918399@www.auzeville.fr
SUMMARY:Les Randovales\, le festival des sports de nature à Donneville
DESCRIPTION:Toutes les infos sur le site du Sicoval.
URL:https://www.auzeville.fr/evenement/randovales-a-donneville/
LOCATION:Donneville\, 31450\, France
CATEGORIES:Information du Sicoval,Sport
END:VEVENT
BEGIN:VEVENT
DTSTART;TZID=Europe/Paris:20251018T100000
DTEND;TZID=Europe/Paris:20251018T120000
DTSTAMP:20260419T191839
CREATED:20251003T083959Z
LAST-MODIFIED:20251003T090435Z
UID:21690-1760781600-1760788800@www.auzeville.fr
SUMMARY:Atelier Halloween : création d'un grimoire
DESCRIPTION:Atelier gratuit sur inscription pour les jeunes de 6 à 15 ans.
URL:https://www.auzeville.fr/evenement/atelier-halloween-creation-dun-grimoire/
LOCATION:Médiathèque Mireille Soulé\, 11\, allée du viognier\, Auzeville-Tolosane\, 31320\, France
CATEGORIES:Médiathèque
ATTACH;FMTTYPE=image/jpeg:https://www.auzeville.fr/wp-content/uploads/2025/01/logo-mediatheque.jpg
ORGANIZER;CN="M%C3%A9diath%C3%A8que d'Auzeville Tolosane":MAILTO:mediatheque@auzeville31.fr
END:VEVENT
BEGIN:VEVENT
DTSTART;TZID=Europe/Paris:20251018T103000
DTEND;TZID=Europe/Paris:20251018T123000
DTSTAMP:20260419T191839
CREATED:20251013T090839Z
LAST-MODIFIED:20251013T091029Z
UID:21806-1760783400-1760790600@www.auzeville.fr
SUMMARY:Visite des Jardins d'Auz
DESCRIPTION:
URL:https://www.auzeville.fr/evenement/visite-des-jardins-dauz/
LOCATION:Jardin partagé
CATEGORIES:Environnement
ATTACH;FMTTYPE=image/png:https://www.auzeville.fr/wp-content/uploads/2025/10/Jardins-dAuz-affiche-octobre-2025.png
ORGANIZER;CN="Commune d'Auzeville-Tolosane":MAILTO:accueil.mairie@auzeville31.fr
END:VEVENT
BEGIN:VEVENT
DTSTART;VALUE=DATE:20251020
DTEND;VALUE=DATE:20251025
DTSTAMP:20260419T191839
CREATED:20251016T140041Z
LAST-MODIFIED:20251016T140041Z
UID:21915-1760918400-1761350399@www.auzeville.fr
SUMMARY:Foyer rural : stage batterie
DESCRIPTION:
URL:https://www.auzeville.fr/evenement/foyer-rural-stage-batterie/
LOCATION:Place de la Mairie Vieille\, Place de la Mairie Vieille\, Auzeville-Tolosane\, 31320
CATEGORIES:Association,Autres événements,Foyer Rural René Lavergne
ATTACH;FMTTYPE=image/png:https://www.auzeville.fr/wp-content/uploads/2025/10/batterie-stage.png
ORGANIZER;CN="Foyer Rural Ren%C3%A9 Lavergne":MAILTO:contact@foyerruralauzeville.org
END:VEVENT
BEGIN:VEVENT
DTSTART;TZID=Europe/Paris:20251020T100000
DTEND;TZID=Europe/Paris:20251022T160000
DTSTAMP:20260419T191839
CREATED:20251016T135809Z
LAST-MODIFIED:20251016T140332Z
UID:21913-1760954400-1761148800@www.auzeville.fr
SUMMARY:Foyer rural : stage théâtre
DESCRIPTION:
URL:https://www.auzeville.fr/evenement/foyer-rural-stage-theatre/
LOCATION:salle de la Durante\, 1\, chemin du Moulin Armand\, Auzeville-Tolosane\, 31320\, France
CATEGORIES:Association,Autres événements,Foyer Rural René Lavergne,Théâtre
ATTACH;FMTTYPE=image/png:https://www.auzeville.fr/wp-content/uploads/2025/10/Theatre-enfants-stage.png
ORGANIZER;CN="Foyer Rural Ren%C3%A9 Lavergne":MAILTO:contact@foyerruralauzeville.org
END:VEVENT
BEGIN:VEVENT
DTSTART;TZID=Europe/Paris:20251021T183000
DTEND;TZID=Europe/Paris:20251021T193000
DTSTAMP:20260419T191839
CREATED:20251016T140307Z
LAST-MODIFIED:20251016T140307Z
UID:21917-1761071400-1761075000@www.auzeville.fr
SUMMARY:Foyer rural : stage fitness
DESCRIPTION:
URL:https://www.auzeville.fr/evenement/foyer-rural-stage-theatre-2/
LOCATION:Salle Pluriactivité Aimé Césaire\, école Aimé Césaire\, Auzeville-Tolosane\, 31320\, France
CATEGORIES:Association,Autres événements,Foyer Rural René Lavergne,Sport
ATTACH;FMTTYPE=image/png:https://www.auzeville.fr/wp-content/uploads/2025/10/Stage-Fitness.png
ORGANIZER;CN="Foyer Rural Ren%C3%A9 Lavergne":MAILTO:contact@foyerruralauzeville.org
END:VEVENT
BEGIN:VEVENT
DTSTART;TZID=Europe/Paris:20251022T100000
DTEND;TZID=Europe/Paris:20251024T170000
DTSTAMP:20260419T191839
CREATED:20251016T140910Z
LAST-MODIFIED:20251017T105429Z
UID:21922-1761127200-1761325200@www.auzeville.fr
SUMMARY:Foyer rural : stage modélisme
DESCRIPTION:
URL:https://www.auzeville.fr/evenement/foyer-rural-stage-theatre-3/
LOCATION:16 chemin des écoles\, 16 chemin des écoles\, Auzeville-Tolosane\, 31320\, France
CATEGORIES:Association,Autres événements,Foyer Rural René Lavergne
ATTACH;FMTTYPE=image/png:https://www.auzeville.fr/wp-content/uploads/2025/10/STAGE-MODELISME-102025.png
ORGANIZER;CN="Foyer Rural Ren%C3%A9 Lavergne":MAILTO:contact@foyerruralauzeville.org
END:VEVENT
BEGIN:VEVENT
DTSTART;TZID=Europe/Paris:20251022T140000
DTEND;TZID=Europe/Paris:20251022T170000
DTSTAMP:20260419T191839
CREATED:20251003T085314Z
LAST-MODIFIED:20251003T093709Z
UID:21697-1761141600-1761152400@www.auzeville.fr
SUMMARY:Tournoi inter-médiathèques de Mario Kart
DESCRIPTION:Accueil des joueurs dès 13h30 et début du tournoi de qualification à 14h à l’espace de vie sociale Le Triporteur. \nGratuit sur inscription à la médiathèque Mireille Soulé dès 7 ans ! \nRèglement du tournoi.
URL:https://www.auzeville.fr/evenement/tournoi-inter-mediatheques-de-mario-kart/
LOCATION:Le Triporteur\, 110 impasse Jeanne Barret\, Auzeville\, 31320\, France
CATEGORIES:Association,Autres événements,Médiathèque
ATTACH;FMTTYPE=image/png:https://www.auzeville.fr/wp-content/uploads/2025/10/Affiche-Mario-Kart-Auzeville-22-oct-2025.png
ORGANIZER;CN="M%C3%A9diath%C3%A8que d'Auzeville Tolosane":MAILTO:mediatheque@auzeville31.fr
END:VEVENT
BEGIN:VEVENT
DTSTART;TZID=Europe/Paris:20251025T143000
DTEND;TZID=Europe/Paris:20251025T163000
DTSTAMP:20260419T191839
CREATED:20251013T091155Z
LAST-MODIFIED:20251013T091155Z
UID:21809-1761402600-1761409800@www.auzeville.fr
SUMMARY:Visite des Jardins d'Auz
DESCRIPTION:
URL:https://www.auzeville.fr/evenement/visite-des-jardins-dauz-2/
LOCATION:Jardin partagé
CATEGORIES:Environnement
ATTACH;FMTTYPE=image/png:https://www.auzeville.fr/wp-content/uploads/2025/10/Jardins-dAuz-affiche-octobre-2025.png
ORGANIZER;CN="Commune d'Auzeville-Tolosane":MAILTO:accueil.mairie@auzeville31.fr
END:VEVENT
BEGIN:VEVENT
DTSTART;TZID=Europe/Paris:20251030T190000
DTEND;TZID=Europe/Paris:20251030T200000
DTSTAMP:20260419T191839
CREATED:20251016T140645Z
LAST-MODIFIED:20251016T140645Z
UID:21919-1761850800-1761854400@www.auzeville.fr
SUMMARY:Foyer rural : stage pilates
DESCRIPTION:
URL:https://www.auzeville.fr/evenement/foyer-rural-stage-theatre-2-2/
LOCATION:12 chemin des écoles 31320 Auzeville\, 12 chemin des écoles\, Auzeville-Tolosane\, 31320\, France
CATEGORIES:Association,Autres événements,Foyer Rural René Lavergne,Sport
ATTACH;FMTTYPE=image/png:https://www.auzeville.fr/wp-content/uploads/2025/10/Pilates-stage.png
ORGANIZER;CN="Foyer Rural Ren%C3%A9 Lavergne":MAILTO:contact@foyerruralauzeville.org
END:VEVENT
END:VCALENDAR