BEGIN:VCALENDAR
VERSION:2.0
PRODID:-//Auzeville-Tolosane - ECPv6.15.13//NONSGML v1.0//EN
CALSCALE:GREGORIAN
METHOD:PUBLISH
X-WR-CALNAME:Auzeville-Tolosane
X-ORIGINAL-URL:https://www.auzeville.fr
X-WR-CALDESC:Évènements pour Auzeville-Tolosane
REFRESH-INTERVAL;VALUE=DURATION:PT1H
X-Robots-Tag:noindex
X-PUBLISHED-TTL:PT1H
BEGIN:VTIMEZONE
TZID:Europe/Paris
BEGIN:DAYLIGHT
TZOFFSETFROM:+0100
TZOFFSETTO:+0200
TZNAME:CEST
DTSTART:20240331T010000
END:DAYLIGHT
BEGIN:STANDARD
TZOFFSETFROM:+0200
TZOFFSETTO:+0100
TZNAME:CET
DTSTART:20241027T010000
END:STANDARD
BEGIN:DAYLIGHT
TZOFFSETFROM:+0100
TZOFFSETTO:+0200
TZNAME:CEST
DTSTART:20250330T010000
END:DAYLIGHT
BEGIN:STANDARD
TZOFFSETFROM:+0200
TZOFFSETTO:+0100
TZNAME:CET
DTSTART:20251026T010000
END:STANDARD
BEGIN:DAYLIGHT
TZOFFSETFROM:+0100
TZOFFSETTO:+0200
TZNAME:CEST
DTSTART:20260329T010000
END:DAYLIGHT
BEGIN:STANDARD
TZOFFSETFROM:+0200
TZOFFSETTO:+0100
TZNAME:CET
DTSTART:20261025T010000
END:STANDARD
END:VTIMEZONE
BEGIN:VEVENT
DTSTART;VALUE=DATE:20250410
DTEND;VALUE=DATE:20250618
DTSTAMP:20260420T021042
CREATED:20250516T131922Z
LAST-MODIFIED:20250516T131923Z
UID:21240-1744243200-1750204799@www.auzeville.fr
SUMMARY:Un certain regard sur l'Asie
DESCRIPTION:Pour mettre l’Asie à l’honneur\, une exposition de photographies intitulée « Un certain regard sur l’Asie » prêtée par la Médiathèque départementale \n\ntéléphone au 05-61-32-94-68 ou par mail : mediatheque@auzeville31.fr
URL:https://www.auzeville.fr/evenement/un-certain-regard-sur-lasie/
LOCATION:Médiathèque Mireille Soulé\, 11\, allée du viognier\, Auzeville-Tolosane\, 31320\, France
CATEGORIES:Médiathèque
ATTACH;FMTTYPE=image/jpeg:https://www.auzeville.fr/wp-content/uploads/2025/05/un_certain_regard_asie-p.jpg
ORGANIZER;CN="M%C3%A9diath%C3%A8que d'Auzeville Tolosane":MAILTO:mediatheque@auzeville31.fr
END:VEVENT
BEGIN:VEVENT
DTSTART;TZID=Europe/Paris:20250605T180000
DTEND;TZID=Europe/Paris:20250605T190000
DTSTAMP:20260420T021042
CREATED:20250516T133242Z
LAST-MODIFIED:20250516T133302Z
UID:21247-1749146400-1749150000@www.auzeville.fr
SUMMARY:Inauguration du composteur de quartier au Triporteur
DESCRIPTION:
URL:https://www.auzeville.fr/evenement/inauguration-du-composteur-de-quartier-au-triporteur/
LOCATION:Le Triporteur\, 110 impasse Jeanne Barret\, Auzeville\, 31320\, France
CATEGORIES:Autres événements,Inauguration
END:VEVENT
BEGIN:VEVENT
DTSTART;TZID=Europe/Paris:20250613T190000
DTEND;TZID=Europe/Paris:20250613T230000
DTSTAMP:20260420T021042
CREATED:20250512T143435Z
LAST-MODIFIED:20250512T143436Z
UID:21203-1749841200-1749855600@www.auzeville.fr
SUMMARY:Concert de l'Été 2025 : Latino Afro Caraïbes
DESCRIPTION:
URL:https://www.auzeville.fr/evenement/concert-de-lete-2025-latino-afro-caraibes/
LOCATION:Place Tolosane\, Place Tolosane\, Auzeville-Tolosane\, 31320\, France
CATEGORIES:Concert
ATTACH;FMTTYPE=image/jpeg:https://www.auzeville.fr/wp-content/uploads/2025/05/AFFICHES-CONCERT.jpg
ORGANIZER;CN="Commune d'Auzeville-Tolosane":MAILTO:accueil.mairie@auzeville31.fr
END:VEVENT
BEGIN:VEVENT
DTSTART;VALUE=DATE:20250615
DTEND;VALUE=DATE:20250616
DTSTAMP:20260420T021042
CREATED:20241212T144024Z
LAST-MODIFIED:20241212T144024Z
UID:20109-1749945600-1750031999@www.auzeville.fr
SUMMARY:Démonstration de modélisme
DESCRIPTION:
URL:https://www.auzeville.fr/evenement/demonstration-de-modelisme/
LOCATION:Lac de Labège
ATTACH;FMTTYPE=image/png:https://www.auzeville.fr/wp-content/uploads/2023/03/01LOGO-PRINCIPAL-COULEURS.png
ORGANIZER;CN="Foyer Rural Ren%C3%A9 Lavergne":MAILTO:contact@foyerruralauzeville.org
END:VEVENT
BEGIN:VEVENT
DTSTART;TZID=Europe/Paris:20250619T183000
DTEND;TZID=Europe/Paris:20250619T200000
DTSTAMP:20260420T021042
CREATED:20250520T112847Z
LAST-MODIFIED:20250520T112848Z
UID:21257-1750357800-1750363200@www.auzeville.fr
SUMMARY:Commission Environnement
DESCRIPTION:
URL:https://www.auzeville.fr/evenement/commission-environnement/
LOCATION:Mairie\, 8\, allée de la Durante\, Auzeville-Tolosane\, 31320\, France
CATEGORIES:Commission
ATTACH;FMTTYPE=image/jpeg:https://www.auzeville.fr/wp-content/uploads/2024/11/IMG_7708-scaled.jpg
ORGANIZER;CN="Commune d'Auzeville-Tolosane":MAILTO:accueil.mairie@auzeville31.fr
END:VEVENT
BEGIN:VEVENT
DTSTART;VALUE=DATE:20250620
DTEND;VALUE=DATE:20250623
DTSTAMP:20260420T021042
CREATED:20241212T141922Z
LAST-MODIFIED:20241212T141923Z
UID:20096-1750377600-1750636799@www.auzeville.fr
SUMMARY:Exposition Art Créations FRRL
DESCRIPTION:Vendredi 20 juin : Vernissage de la section dessin – Art plastique à partir de 18h \nSamedi 21 juin : ateliers découvertes de 10h à 12h
URL:https://www.auzeville.fr/evenement/exposition-art-creations-frrl/
LOCATION:salle de la Durante\, 1\, chemin du Moulin Armand\, Auzeville-Tolosane\, 31320\, France
CATEGORIES:Exposition,Foyer Rural René Lavergne
ATTACH;FMTTYPE=image/png:https://www.auzeville.fr/wp-content/uploads/2023/03/01LOGO-PRINCIPAL-COULEURS.png
ORGANIZER;CN="Foyer Rural Ren%C3%A9 Lavergne":MAILTO:contact@foyerruralauzeville.org
END:VEVENT
BEGIN:VEVENT
DTSTART;TZID=Europe/Paris:20250620T183000
DTEND;TZID=Europe/Paris:20250620T210000
DTSTAMP:20260420T021042
CREATED:20250616T072140Z
LAST-MODIFIED:20250616T072140Z
UID:21331-1750444200-1750453200@www.auzeville.fr
SUMMARY:GRANDE SOIRÉE MUSICALE AU CAFÉ DE LA VIGNE
DESCRIPTION:La soirée débutera à 18h30 devant le Cafe de la Vigne. \n\n18h30 – 19h00 un « Marching Band »\, interprètera des morceaux de « New Orleans » en déambulant dans notre marché de plein vent \n\n19h00 – 19h30 une Fanfare composée essentiellement de 30 cuivres prendra le relais devant le Cafe de la Vigne. \n\n19h30 – 19h45 de jeunes danseuses et danseurs \n\n20h – 20h30 le Soule Orchestra\, interprètera une série de standards de Rock \n\n20h30 – 21h00 un orchestre de musique Motown conclura cette joyeuse soirée musicale !!
URL:https://www.auzeville.fr/evenement/grande-soiree-musicale-au-cafe-de-la-vigne/
LOCATION:Place de la Mairie Vieille\, Place de la Mairie Vieille\, Auzeville-Tolosane\, 31320
CATEGORIES:Concert
ATTACH;FMTTYPE=image/jpeg:https://www.auzeville.fr/wp-content/uploads/2025/06/PHOTO-2024-12-18-21-56-0122.jpg
ORGANIZER;CN="Caf%C3%A9 de la Vigne":MAILTO:cafecitoyen.auzeville@gmail.com
END:VEVENT
BEGIN:VEVENT
DTSTART;TZID=Europe/Paris:20250621T150000
DTEND;TZID=Europe/Paris:20250621T200000
DTSTAMP:20260420T021042
CREATED:20241212T142837Z
LAST-MODIFIED:20241212T142837Z
UID:20102-1750518000-1750536000@www.auzeville.fr
SUMMARY:LA FÊTE AU FOYER
DESCRIPTION:Démonstrations\, ateliers gratuits et présentation des nouvelles activités pour la prochaine rentrée. Apéritif offert
URL:https://www.auzeville.fr/evenement/la-fete-au-foyer/
LOCATION:Espace de la Durante
CATEGORIES:Fêtes et cérémonies,Foyer Rural René Lavergne
ATTACH;FMTTYPE=image/png:https://www.auzeville.fr/wp-content/uploads/2023/03/01LOGO-PRINCIPAL-COULEURS.png
ORGANIZER;CN="Foyer Rural Ren%C3%A9 Lavergne":MAILTO:contact@foyerruralauzeville.org
END:VEVENT
BEGIN:VEVENT
DTSTART;TZID=Europe/Paris:20250621T203000
DTEND;TZID=Europe/Paris:20250621T220000
DTSTAMP:20260420T021042
CREATED:20241212T140843Z
LAST-MODIFIED:20241212T140844Z
UID:20092-1750537800-1750543200@www.auzeville.fr
SUMMARY:Concert Chorale FRRL
DESCRIPTION:
URL:https://www.auzeville.fr/evenement/concert-chorale-frrl-2/
LOCATION:Église Saint Severin Auzeville
CATEGORIES:Concert,Foyer Rural René Lavergne
ATTACH;FMTTYPE=image/png:https://www.auzeville.fr/wp-content/uploads/2023/03/01LOGO-PRINCIPAL-COULEURS.png
ORGANIZER;CN="Foyer Rural Ren%C3%A9 Lavergne":MAILTO:contact@foyerruralauzeville.org
END:VEVENT
BEGIN:VEVENT
DTSTART;TZID=Europe/Paris:20250622T170000
DTEND;TZID=Europe/Paris:20250622T190000
DTSTAMP:20260420T021042
CREATED:20250516T134921Z
LAST-MODIFIED:20250516T134921Z
UID:21250-1750611600-1750618800@www.auzeville.fr
SUMMARY:Concert Chorale d'Auzeville Choeur Arabesque Ensemble La Bosca
DESCRIPTION:
URL:https://www.auzeville.fr/evenement/concert-chorale-dauzeville-choeur-arabesque-ensemble-la-bosca/
LOCATION:Eglise de Pouvourville
CATEGORIES:Concert
ORGANIZER;CN="Foyer Rural Ren%C3%A9 Lavergne":MAILTO:contact@foyerruralauzeville.org
END:VEVENT
BEGIN:VEVENT
DTSTART;TZID=Europe/Paris:20250626T093000
DTEND;TZID=Europe/Paris:20250626T160000
DTSTAMP:20260420T021042
CREATED:20250606T073715Z
LAST-MODIFIED:20250606T073716Z
UID:21320-1750930200-1750953600@www.auzeville.fr
SUMMARY:Agri-Parc évènement du Sicoval et de la commune d'Auzeville
DESCRIPTION:Au programme : \n🥐 9h30 Accueil café \n🤝 De 10h à 12h : Rencontre et échanges entre les porteurs de projets \n\nTour de table et présentation des 9 projets >> Vous souhaitez projeter des éléments pendant la réunion ? N’hésitez à nous envoyer des diapositives/docs\nRéflexion collective sur :\n\nLa création d’un « Conseil » des porteurs de projets\nL’identité du site\nLa communication : identité graphique\, panneaux d’informations et pédagogiques\n\n\n\n🌿 De 12h à 14h : Rencontre avec les élus locaux et partenaires  >> Vous avez été destinataire d’une invitation avec inscription pour ce deuxième temps\, avez-vous pensé à vous inscrire ? \n\nBuffet de produits locaux sous la grange foraine\nBalade de découverte du site\n\n➡️ Plus d’infos sur l’Agri-Parc sur sicoval.fr :\nLe premier pôle dédié à l’agriculture durable du Sud-Est toulousain – Communauté d’agglomération du Sicoval
URL:https://www.auzeville.fr/evenement/agri-parc-evenement-du-sicoval-et-de-la-commune-dauzeville/
LOCATION:Salle Orange\, Auzeville-Tolosane\, 31320\, France
CATEGORIES:Autres événements
END:VEVENT
BEGIN:VEVENT
DTSTART;VALUE=DATE:20250628
DTEND;VALUE=DATE:20250630
DTSTAMP:20260420T021042
CREATED:20241212T143150Z
LAST-MODIFIED:20241212T143247Z
UID:20104-1751068800-1751241599@www.auzeville.fr
SUMMARY:SPECTACLES CULTURELS
DESCRIPTION:La section « Théâtre » réunit six groupes : trois groupes d’enfants\, un groupe de pré_ado \, d’ado et un groupe d’adultes qui sont animés par une comédienne professionnelle dans la bonne humeur et la convivialité. \nUn spectacle est présenté en fin d’année pour permettre aux enfants\, pré- ados \, ados et adultes de concrétiser leur projet. \nEn plus de plusieurs pièces de théâtre\, des chorégraphies de la section Modern Jazz ainsi que des démonstrations de Capoeira complètera ces deux jours.
URL:https://www.auzeville.fr/evenement/spectacles-culturels/
LOCATION:Espace René Lavergne\, 12 chemin des écoles\, Auzeville-Tolosane
CATEGORIES:Foyer Rural René Lavergne,Théâtre
ATTACH;FMTTYPE=image/png:https://www.auzeville.fr/wp-content/uploads/2023/03/01LOGO-PRINCIPAL-COULEURS.png
ORGANIZER;CN="Foyer Rural Ren%C3%A9 Lavergne":MAILTO:contact@foyerruralauzeville.org
END:VEVENT
END:VCALENDAR