BEGIN:VCALENDAR
VERSION:2.0
PRODID:-//Auzeville-Tolosane - ECPv6.15.13//NONSGML v1.0//EN
CALSCALE:GREGORIAN
METHOD:PUBLISH
X-ORIGINAL-URL:https://www.auzeville.fr
X-WR-CALDESC:Évènements pour Auzeville-Tolosane
REFRESH-INTERVAL;VALUE=DURATION:PT1H
X-Robots-Tag:noindex
X-PUBLISHED-TTL:PT1H
BEGIN:VTIMEZONE
TZID:Europe/Paris
BEGIN:DAYLIGHT
TZOFFSETFROM:+0100
TZOFFSETTO:+0200
TZNAME:CEST
DTSTART:20220327T010000
END:DAYLIGHT
BEGIN:STANDARD
TZOFFSETFROM:+0200
TZOFFSETTO:+0100
TZNAME:CET
DTSTART:20221030T010000
END:STANDARD
BEGIN:DAYLIGHT
TZOFFSETFROM:+0100
TZOFFSETTO:+0200
TZNAME:CEST
DTSTART:20230326T010000
END:DAYLIGHT
BEGIN:STANDARD
TZOFFSETFROM:+0200
TZOFFSETTO:+0100
TZNAME:CET
DTSTART:20231029T010000
END:STANDARD
BEGIN:DAYLIGHT
TZOFFSETFROM:+0100
TZOFFSETTO:+0200
TZNAME:CEST
DTSTART:20240331T010000
END:DAYLIGHT
BEGIN:STANDARD
TZOFFSETFROM:+0200
TZOFFSETTO:+0100
TZNAME:CET
DTSTART:20241027T010000
END:STANDARD
BEGIN:DAYLIGHT
TZOFFSETFROM:+0100
TZOFFSETTO:+0200
TZNAME:CEST
DTSTART:20250330T010000
END:DAYLIGHT
BEGIN:STANDARD
TZOFFSETFROM:+0200
TZOFFSETTO:+0100
TZNAME:CET
DTSTART:20251026T010000
END:STANDARD
END:VTIMEZONE
BEGIN:VEVENT
DTSTART;TZID=Europe/Paris:20231130T080000
DTEND;TZID=Europe/Paris:20240111T170000
DTSTAMP:20260424T012506
CREATED:20231212T082350Z
LAST-MODIFIED:20231212T082351Z
UID:17689-1701331200-1704992400@www.auzeville.fr
SUMMARY:Expositions Médiathèque Anne Cazin (Pastels) et Étienne Eczet (Dessins)
DESCRIPTION:
URL:https://www.auzeville.fr/evenement/expositions-mediatheque-anne-cazin-pastels-et-etienne-eczet-dessins/
LOCATION:Médiathèque Mireille Soulé\, 11\, allée du viognier\, Auzeville-Tolosane\, 31320\, France
CATEGORIES:Exposition
ORGANIZER;CN="M%C3%A9diath%C3%A8que d'Auzeville Tolosane":MAILTO:mediatheque@auzeville31.fr
END:VEVENT
BEGIN:VEVENT
DTSTART;TZID=Europe/Paris:20240119T183000
DTEND;TZID=Europe/Paris:20240119T210000
DTSTAMP:20260424T012506
CREATED:20231212T090129Z
LAST-MODIFIED:20231212T090130Z
UID:17694-1705689000-1705698000@www.auzeville.fr
SUMMARY:Voeux du Maire 2024
DESCRIPTION:
URL:https://www.auzeville.fr/evenement/voeux-du-maire-2024/
LOCATION:salle de la Durante\, 1\, chemin du Moulin Armand\, Auzeville-Tolosane\, 31320\, France
CATEGORIES:Conseil Municipal
ORGANIZER;CN="Commune d'Auzeville-Tolosane":MAILTO:accueil.mairie@auzeville31.fr
END:VEVENT
BEGIN:VEVENT
DTSTART;TZID=Europe/Paris:20240120T143000
DTEND;TZID=Europe/Paris:20240120T233000
DTSTAMP:20260424T012506
CREATED:20240116T082723Z
LAST-MODIFIED:20240116T082724Z
UID:17805-1705761000-1705793400@www.auzeville.fr
SUMMARY:La Fête Occitane des Coteaux Football
DESCRIPTION:La Fête Occitane des Coteaux le samedi 20 janvier à la Salle de la Durante d’Auzeville-Tolosane!  \n  \nIl s’agit d’une journée pour vous faire découvrir les musiques\, les danses et la culture traditionnelle de chez nous! Beaucoup l’ignorent mais nos villages étaient autrefois (et certains le sont encore) très animés par les bals\, qui permettaient aux jeunes gens de se rencontrer toutes les fins de semaine\, d’oublier les tracas du quotidien en dansant tous ensemble. Autrefois chaque région avait son dialecte\, inventait puis transmettait de génération en génération ses chants\, ses airs\, ses recettes\, ses danses\, ses contes\, son savoir-faire… \n  \n  \nAu programme de cette journée : \n  \n14H30 – 00H00 : Ouverture des portes \n  \n15H00 – 15H30 : Concert découverte \n  \n15H30 – 18H00 : Fête occitane – Ateliers pour tous! \n  \n18H00 – 19H00 : Bal découverte en Famille \n  \n19H00 – 20H00 : Initiation danse Avancés \n  \n20H00 – 21H00 – Bal des accordéons \n  \n21H00 – 00H00 – Boeuf rencontre musiciens & danseurs \n  \nPrix 5€ & Gratuit pour les -12 ans – Réservation conseillée (sur le lien ci-dessous) \n(1 boisson offerte sur place) \nhttps://www.helloasso.com/associations/co-coteaux/evenements/bal-trad-des-coteaux. \n 
URL:https://www.auzeville.fr/evenement/la-fete-occitane-des-coteaux-football/
LOCATION:Espace de la Durante
CATEGORIES:Association,Concert,Fêtes et cérémonies,Sport
END:VEVENT
BEGIN:VEVENT
DTSTART;TZID=Europe/Paris:20240120T203000
DTEND;TZID=Europe/Paris:20240120T203000
DTSTAMP:20260424T012506
CREATED:20240116T083543Z
LAST-MODIFIED:20240116T083544Z
UID:17809-1705782600-1705782600@www.auzeville.fr
SUMMARY:Concert de Musique Chorale
DESCRIPTION:
URL:https://www.auzeville.fr/evenement/concert-de-musique-chorale/
LOCATION:Eglise de Pouvourville
CATEGORIES:Association,Concert,Foyer Rural René Lavergne
ORGANIZER;CN="Foyer Rural Ren%C3%A9 Lavergne":MAILTO:contact@foyerruralauzeville.org
END:VEVENT
BEGIN:VEVENT
DTSTART;TZID=Europe/Paris:20240127T090000
DTEND;TZID=Europe/Paris:20240128T180000
DTSTAMP:20260424T012506
CREATED:20240116T154749Z
LAST-MODIFIED:20240116T154751Z
UID:17815-1706346000-1706464800@www.auzeville.fr
SUMMARY:Challenge Département 31 : GoElan GYM
DESCRIPTION:
URL:https://www.auzeville.fr/evenement/challenge-departement-31-goelan-gym/
LOCATION:Gymnase Collège Jean-Jaurès Castanet
CATEGORIES:Association,Sport
END:VEVENT
BEGIN:VEVENT
DTSTART;TZID=Europe/Paris:20240127T140000
DTEND;TZID=Europe/Paris:20240127T170000
DTSTAMP:20260424T012506
CREATED:20231025T081630Z
LAST-MODIFIED:20231025T081630Z
UID:17448-1706364000-1706374800@www.auzeville.fr
SUMMARY:Thé Chantant ! Thé Gourmand !
DESCRIPTION:Infos à venir
URL:https://www.auzeville.fr/evenement/the-chantant-the-gourmand-3/
CATEGORIES:Sociale
END:VEVENT
BEGIN:VEVENT
DTSTART;TZID=Europe/Paris:20240127T140000
DTEND;TZID=Europe/Paris:20240127T170000
DTSTAMP:20260424T012506
CREATED:20231212T093540Z
LAST-MODIFIED:20231212T093542Z
UID:17697-1706364000-1706374800@www.auzeville.fr
SUMMARY:Thé Chantant ! Thé Gourmand ! 2024
DESCRIPTION:
URL:https://www.auzeville.fr/evenement/the-chantant-the-gourmand-2024/
LOCATION:salle de la Durante\, 1\, chemin du Moulin Armand\, Auzeville-Tolosane\, 31320\, France
ORGANIZER;CN="Commune d'Auzeville-Tolosane":MAILTO:accueil.mairie@auzeville31.fr
END:VEVENT
END:VCALENDAR