BEGIN:VCALENDAR
VERSION:2.0
PRODID:-//Auzeville-Tolosane - ECPv6.15.13//NONSGML v1.0//EN
CALSCALE:GREGORIAN
METHOD:PUBLISH
X-WR-CALNAME:Auzeville-Tolosane
X-ORIGINAL-URL:https://www.auzeville.fr
X-WR-CALDESC:Évènements pour Auzeville-Tolosane
REFRESH-INTERVAL;VALUE=DURATION:PT1H
X-Robots-Tag:noindex
X-PUBLISHED-TTL:PT1H
BEGIN:VTIMEZONE
TZID:Europe/Paris
BEGIN:DAYLIGHT
TZOFFSETFROM:+0100
TZOFFSETTO:+0200
TZNAME:CEST
DTSTART:20250330T010000
END:DAYLIGHT
BEGIN:STANDARD
TZOFFSETFROM:+0200
TZOFFSETTO:+0100
TZNAME:CET
DTSTART:20251026T010000
END:STANDARD
BEGIN:DAYLIGHT
TZOFFSETFROM:+0100
TZOFFSETTO:+0200
TZNAME:CEST
DTSTART:20260329T010000
END:DAYLIGHT
BEGIN:STANDARD
TZOFFSETFROM:+0200
TZOFFSETTO:+0100
TZNAME:CET
DTSTART:20261025T010000
END:STANDARD
BEGIN:DAYLIGHT
TZOFFSETFROM:+0100
TZOFFSETTO:+0200
TZNAME:CEST
DTSTART:20270328T010000
END:DAYLIGHT
BEGIN:STANDARD
TZOFFSETFROM:+0200
TZOFFSETTO:+0100
TZNAME:CET
DTSTART:20271031T010000
END:STANDARD
END:VTIMEZONE
BEGIN:VEVENT
DTSTART;TZID=Europe/Paris:20260605T193000
DTEND;TZID=Europe/Paris:20260605T210000
DTSTAMP:20260421T051353
CREATED:20260402T102353Z
LAST-MODIFIED:20260402T102353Z
UID:23075-1780687800-1780693200@www.auzeville.fr
SUMMARY:Film documentaire « La roue libre »
DESCRIPTION:
URL:https://www.auzeville.fr/evenement/film-documentaire-la-roue-libre/
LOCATION:salle de la Durante\, 1\, chemin du Moulin Armand\, Auzeville-Tolosane\, 31320\, France
CATEGORIES:Association,Foyer Rural René Lavergne,Soirée débat - conférence
ATTACH;FMTTYPE=image/jpeg:https://www.auzeville.fr/wp-content/uploads/2026/04/La-Roue-Libre.jpg
ORGANIZER;CN="Foyer Rural Ren%C3%A9 Lavergne":MAILTO:contact@foyerruralauzeville.org
END:VEVENT
END:VCALENDAR