BEGIN:VCALENDAR
VERSION:2.0
PRODID:-//Auzeville-Tolosane - ECPv6.15.13//NONSGML v1.0//EN
CALSCALE:GREGORIAN
METHOD:PUBLISH
X-ORIGINAL-URL:https://www.auzeville.fr
X-WR-CALDESC:Évènements pour Auzeville-Tolosane
REFRESH-INTERVAL;VALUE=DURATION:PT1H
X-Robots-Tag:noindex
X-PUBLISHED-TTL:PT1H
BEGIN:VTIMEZONE
TZID:Europe/Paris
BEGIN:DAYLIGHT
TZOFFSETFROM:+0100
TZOFFSETTO:+0200
TZNAME:CEST
DTSTART:20250330T010000
END:DAYLIGHT
BEGIN:STANDARD
TZOFFSETFROM:+0200
TZOFFSETTO:+0100
TZNAME:CET
DTSTART:20251026T010000
END:STANDARD
BEGIN:DAYLIGHT
TZOFFSETFROM:+0100
TZOFFSETTO:+0200
TZNAME:CEST
DTSTART:20260329T010000
END:DAYLIGHT
BEGIN:STANDARD
TZOFFSETFROM:+0200
TZOFFSETTO:+0100
TZNAME:CET
DTSTART:20261025T010000
END:STANDARD
BEGIN:DAYLIGHT
TZOFFSETFROM:+0100
TZOFFSETTO:+0200
TZNAME:CEST
DTSTART:20270328T010000
END:DAYLIGHT
BEGIN:STANDARD
TZOFFSETFROM:+0200
TZOFFSETTO:+0100
TZNAME:CET
DTSTART:20271031T010000
END:STANDARD
END:VTIMEZONE
BEGIN:VEVENT
DTSTART;VALUE=DATE:20260117
DTEND;VALUE=DATE:20260118
DTSTAMP:20260420T205715
CREATED:20251201T154931Z
LAST-MODIFIED:20251201T154931Z
UID:22293-1768608000-1768694399@www.auzeville.fr
SUMMARY:Conférence "Femmes d'Avenir" : réécrire les règles
DESCRIPTION:
URL:https://www.auzeville.fr/evenement/conference-femmes-davenir-reecrire-les-regles/
LOCATION:INP-ENSAT\, Avenue de l'Agrobiopole\, Auzeville-Tolosane\, 31320
CATEGORIES:Autres événements,Conférence - Débat,Soirée débat - conférence
ATTACH;FMTTYPE=image/png:https://www.auzeville.fr/wp-content/uploads/2025/12/Conference-femmes-avenir-170126.png
END:VEVENT
BEGIN:VEVENT
DTSTART;TZID=Europe/Paris:20260123T143000
DTEND;TZID=Europe/Paris:20260123T163000
DTSTAMP:20260420T205715
CREATED:20260115T132453Z
LAST-MODIFIED:20260119T124116Z
UID:22565-1769178600-1769185800@www.auzeville.fr
SUMMARY:Conférence d'Alain Dreuihle : histoires policières vécues en Corse et ailleurs
DESCRIPTION:
URL:https://www.auzeville.fr/evenement/conference-dalain-dreuihle-histoires-policieres-vecues-en-corse-et-ailleurs/
LOCATION:Salle du conseil municipal\, 8 allée de la Durante\, Auzeville-Tolosane\, Midi-Pyrenees\, France\, Haute Garonne\, 31320\, France
CATEGORIES:Association,Conférence - Débat
ATTACH;FMTTYPE=image/jpeg:https://www.auzeville.fr/wp-content/uploads/2025/04/les-tamalous.jpg
END:VEVENT
END:VCALENDAR