BEGIN:VCALENDAR
VERSION:2.0
PRODID:-//Auzeville-Tolosane - ECPv6.15.13//NONSGML v1.0//EN
CALSCALE:GREGORIAN
METHOD:PUBLISH
X-ORIGINAL-URL:https://www.auzeville.fr
X-WR-CALDESC:Évènements pour Auzeville-Tolosane
REFRESH-INTERVAL;VALUE=DURATION:PT1H
X-Robots-Tag:noindex
X-PUBLISHED-TTL:PT1H
BEGIN:VTIMEZONE
TZID:Europe/Paris
BEGIN:DAYLIGHT
TZOFFSETFROM:+0100
TZOFFSETTO:+0200
TZNAME:CEST
DTSTART:20240331T010000
END:DAYLIGHT
BEGIN:STANDARD
TZOFFSETFROM:+0200
TZOFFSETTO:+0100
TZNAME:CET
DTSTART:20241027T010000
END:STANDARD
BEGIN:DAYLIGHT
TZOFFSETFROM:+0100
TZOFFSETTO:+0200
TZNAME:CEST
DTSTART:20250330T010000
END:DAYLIGHT
BEGIN:STANDARD
TZOFFSETFROM:+0200
TZOFFSETTO:+0100
TZNAME:CET
DTSTART:20251026T010000
END:STANDARD
BEGIN:DAYLIGHT
TZOFFSETFROM:+0100
TZOFFSETTO:+0200
TZNAME:CEST
DTSTART:20260329T010000
END:DAYLIGHT
BEGIN:STANDARD
TZOFFSETFROM:+0200
TZOFFSETTO:+0100
TZNAME:CET
DTSTART:20261025T010000
END:STANDARD
END:VTIMEZONE
BEGIN:VEVENT
DTSTART;TZID=Europe/Paris:20251121T190000
DTEND;TZID=Europe/Paris:20251121T200000
DTSTAMP:20260420T174639
CREATED:20251104T141526Z
LAST-MODIFIED:20251104T141558Z
UID:22068-1763751600-1763755200@www.auzeville.fr
SUMMARY:Conférence à la médiathèque : "Charles Baudelaire\, l'empire des sens"
DESCRIPTION:
URL:https://www.auzeville.fr/evenement/conference-a-la-mediatheque-charles-baudelaire-lempire-des-sens/
LOCATION:Médiathèque Mireille Soulé\, 11\, allée du viognier\, Auzeville-Tolosane\, 31320\, France
CATEGORIES:Conférence - Débat,Médiathèque,Soirée débat - conférence
ATTACH;FMTTYPE=image/jpeg:https://www.auzeville.fr/wp-content/uploads/2025/11/Charles-Baudelaire.jpg
ORGANIZER;CN="M%C3%A9diath%C3%A8que d'Auzeville Tolosane":MAILTO:mediatheque@auzeville31.fr
END:VEVENT
BEGIN:VEVENT
DTSTART;TZID=Europe/Paris:20251125T203000
DTEND;TZID=Europe/Paris:20251125T223000
DTSTAMP:20260420T174639
CREATED:20251003T091200Z
LAST-MODIFIED:20251120T092854Z
UID:21707-1764102600-1764109800@www.auzeville.fr
SUMMARY:Marche de l'Empereur : documentaire et échanges
DESCRIPTION:Gratuit et tout public.
URL:https://www.auzeville.fr/evenement/marche-de-lempereur-documentaire-et-echanges/
LOCATION:salle de la Durante\, 1\, chemin du Moulin Armand\, Auzeville-Tolosane\, 31320\, France
CATEGORIES:Association,Conférence - Débat,Foyer Rural René Lavergne,Soirée débat - conférence
ATTACH;FMTTYPE=image/png:https://www.auzeville.fr/wp-content/uploads/2025/11/Film-marche.png
ORGANIZER;CN="Foyer Rural Ren%C3%A9 Lavergne":MAILTO:contact@foyerruralauzeville.org
END:VEVENT
END:VCALENDAR