BEGIN:VCALENDAR
VERSION:2.0
PRODID:-//Auzeville-Tolosane - ECPv6.15.13//NONSGML v1.0//EN
CALSCALE:GREGORIAN
METHOD:PUBLISH
X-ORIGINAL-URL:https://www.auzeville.fr
X-WR-CALDESC:Évènements pour Auzeville-Tolosane
REFRESH-INTERVAL;VALUE=DURATION:PT1H
X-Robots-Tag:noindex
X-PUBLISHED-TTL:PT1H
BEGIN:VTIMEZONE
TZID:Europe/Paris
BEGIN:DAYLIGHT
TZOFFSETFROM:+0100
TZOFFSETTO:+0200
TZNAME:CEST
DTSTART:20240331T010000
END:DAYLIGHT
BEGIN:STANDARD
TZOFFSETFROM:+0200
TZOFFSETTO:+0100
TZNAME:CET
DTSTART:20241027T010000
END:STANDARD
BEGIN:DAYLIGHT
TZOFFSETFROM:+0100
TZOFFSETTO:+0200
TZNAME:CEST
DTSTART:20250330T010000
END:DAYLIGHT
BEGIN:STANDARD
TZOFFSETFROM:+0200
TZOFFSETTO:+0100
TZNAME:CET
DTSTART:20251026T010000
END:STANDARD
BEGIN:DAYLIGHT
TZOFFSETFROM:+0100
TZOFFSETTO:+0200
TZNAME:CEST
DTSTART:20260329T010000
END:DAYLIGHT
BEGIN:STANDARD
TZOFFSETFROM:+0200
TZOFFSETTO:+0100
TZNAME:CET
DTSTART:20261025T010000
END:STANDARD
END:VTIMEZONE
BEGIN:VEVENT
DTSTART;TZID=Europe/Paris:20250404T140000
DTEND;TZID=Europe/Paris:20250404T153000
DTSTAMP:20260420T124210
CREATED:20250115T143808Z
LAST-MODIFIED:20250115T143808Z
UID:20274-1743775200-1743780600@www.auzeville.fr
SUMMARY:Conférence TAMALOUS : 100 ans du blues du Mississippi à Chicago par Christian Jacob
DESCRIPTION:
URL:https://www.auzeville.fr/evenement/conference-tamalous-100-ans-du-blues-du-mississippi-a-chicago-par-christian-jacob/
LOCATION:Mairie\, 8\, allée de la Durante\, Auzeville-Tolosane\, 31320\, France
CATEGORIES:Conférence - Débat
END:VEVENT
END:VCALENDAR