BEGIN:VCALENDAR
VERSION:2.0
PRODID:-//Auzeville-Tolosane - ECPv6.15.13//NONSGML v1.0//EN
CALSCALE:GREGORIAN
METHOD:PUBLISH
X-WR-CALNAME:Auzeville-Tolosane
X-ORIGINAL-URL:https://www.auzeville.fr
X-WR-CALDESC:Évènements pour Auzeville-Tolosane
REFRESH-INTERVAL;VALUE=DURATION:PT1H
X-Robots-Tag:noindex
X-PUBLISHED-TTL:PT1H
BEGIN:VTIMEZONE
TZID:Europe/Paris
BEGIN:DAYLIGHT
TZOFFSETFROM:+0100
TZOFFSETTO:+0200
TZNAME:CEST
DTSTART:20240331T010000
END:DAYLIGHT
BEGIN:STANDARD
TZOFFSETFROM:+0200
TZOFFSETTO:+0100
TZNAME:CET
DTSTART:20241027T010000
END:STANDARD
BEGIN:DAYLIGHT
TZOFFSETFROM:+0100
TZOFFSETTO:+0200
TZNAME:CEST
DTSTART:20250330T010000
END:DAYLIGHT
BEGIN:STANDARD
TZOFFSETFROM:+0200
TZOFFSETTO:+0100
TZNAME:CET
DTSTART:20251026T010000
END:STANDARD
BEGIN:DAYLIGHT
TZOFFSETFROM:+0100
TZOFFSETTO:+0200
TZNAME:CEST
DTSTART:20260329T010000
END:DAYLIGHT
BEGIN:STANDARD
TZOFFSETFROM:+0200
TZOFFSETTO:+0100
TZNAME:CET
DTSTART:20261025T010000
END:STANDARD
END:VTIMEZONE
BEGIN:VEVENT
DTSTART;TZID=Europe/Paris:20250307T143000
DTEND;TZID=Europe/Paris:20250307T153000
DTSTAMP:20260420T110848
CREATED:20250115T143502Z
LAST-MODIFIED:20250228T091726Z
UID:20272-1741357800-1741361400@www.auzeville.fr
SUMMARY:Conférence TAMALOUS : souvenir de la Colonia (enfants espagnols accueillis au château de Saint Goin en Béarn) par Pierre Ferrer
DESCRIPTION:
URL:https://www.auzeville.fr/evenement/conference-tamalous-souvenir-de-la-colonia-enfants-espagnols-accueillis-au-chateau-de-saint-goin-en-bearn-par-pierre-ferrer/
LOCATION:Mairie\, 8\, allée de la Durante\, Auzeville-Tolosane\, 31320\, France
CATEGORIES:Conférence - Débat
ATTACH;FMTTYPE=image/png:https://www.auzeville.fr/wp-content/uploads/2025/01/logo-tamalous.png
END:VEVENT
END:VCALENDAR