BEGIN:VCALENDAR
VERSION:2.0
PRODID:-//Auzeville-Tolosane - ECPv6.15.13//NONSGML v1.0//EN
CALSCALE:GREGORIAN
METHOD:PUBLISH
X-ORIGINAL-URL:https://www.auzeville.fr
X-WR-CALDESC:Évènements pour Auzeville-Tolosane
REFRESH-INTERVAL;VALUE=DURATION:PT1H
X-Robots-Tag:noindex
X-PUBLISHED-TTL:PT1H
BEGIN:VTIMEZONE
TZID:Europe/Paris
BEGIN:DAYLIGHT
TZOFFSETFROM:+0100
TZOFFSETTO:+0200
TZNAME:CEST
DTSTART:20240331T010000
END:DAYLIGHT
BEGIN:STANDARD
TZOFFSETFROM:+0200
TZOFFSETTO:+0100
TZNAME:CET
DTSTART:20241027T010000
END:STANDARD
BEGIN:DAYLIGHT
TZOFFSETFROM:+0100
TZOFFSETTO:+0200
TZNAME:CEST
DTSTART:20250330T010000
END:DAYLIGHT
BEGIN:STANDARD
TZOFFSETFROM:+0200
TZOFFSETTO:+0100
TZNAME:CET
DTSTART:20251026T010000
END:STANDARD
BEGIN:DAYLIGHT
TZOFFSETFROM:+0100
TZOFFSETTO:+0200
TZNAME:CEST
DTSTART:20260329T010000
END:DAYLIGHT
BEGIN:STANDARD
TZOFFSETFROM:+0200
TZOFFSETTO:+0100
TZNAME:CET
DTSTART:20261025T010000
END:STANDARD
END:VTIMEZONE
BEGIN:VEVENT
DTSTART;TZID=Europe/Paris:20250124T190000
DTEND;TZID=Europe/Paris:20250124T203000
DTSTAMP:20260420T074802
CREATED:20250116T085918Z
LAST-MODIFIED:20250116T085919Z
UID:20278-1737745200-1737750600@www.auzeville.fr
SUMMARY:Conférence Diaporama d'Histoire de l'art "comment regarder un tableau" par Marie-Pierre Brunner
DESCRIPTION:la médiathèque vous propose une Conférence-Diaporama d’Histoire de l’Art animée par Marie-Pierre Brunner. Le thème abordé sera le suivant : « Comment regarder un tableau » L’entrée est gratuite. \nLe nombre de participants étant limité\, l’inscription est obligatoire auprès de la médiathèque par téléphone au 05-61-32-94-68 ou par mail : mediatheque@auzeville31.fr
URL:https://www.auzeville.fr/evenement/conference-diaporama-dhistoire-de-lart-comment-regarder-un-tableau-par-marie-pierre-brunner/
LOCATION:Médiathèque Mireille Soulé\, 11\, allée du viognier\, Auzeville-Tolosane\, 31320\, France
CATEGORIES:Conférence - Débat,Soirée débat - conférence
ATTACH;FMTTYPE=image/jpeg:https://www.auzeville.fr/wp-content/uploads/2025/01/logo-mediatheque.jpg
ORGANIZER;CN="M%C3%A9diath%C3%A8que d'Auzeville Tolosane":MAILTO:mediatheque@auzeville31.fr
END:VEVENT
END:VCALENDAR