BEGIN:VCALENDAR
VERSION:2.0
PRODID:-//Auzeville-Tolosane - ECPv6.15.13//NONSGML v1.0//EN
CALSCALE:GREGORIAN
METHOD:PUBLISH
X-ORIGINAL-URL:https://www.auzeville.fr
X-WR-CALDESC:Évènements pour Auzeville-Tolosane
REFRESH-INTERVAL;VALUE=DURATION:PT1H
X-Robots-Tag:noindex
X-PUBLISHED-TTL:PT1H
BEGIN:VTIMEZONE
TZID:Europe/Paris
BEGIN:DAYLIGHT
TZOFFSETFROM:+0100
TZOFFSETTO:+0200
TZNAME:CEST
DTSTART:20230326T010000
END:DAYLIGHT
BEGIN:STANDARD
TZOFFSETFROM:+0200
TZOFFSETTO:+0100
TZNAME:CET
DTSTART:20231029T010000
END:STANDARD
BEGIN:DAYLIGHT
TZOFFSETFROM:+0100
TZOFFSETTO:+0200
TZNAME:CEST
DTSTART:20240331T010000
END:DAYLIGHT
BEGIN:STANDARD
TZOFFSETFROM:+0200
TZOFFSETTO:+0100
TZNAME:CET
DTSTART:20241027T010000
END:STANDARD
BEGIN:DAYLIGHT
TZOFFSETFROM:+0100
TZOFFSETTO:+0200
TZNAME:CEST
DTSTART:20250330T010000
END:DAYLIGHT
BEGIN:STANDARD
TZOFFSETFROM:+0200
TZOFFSETTO:+0100
TZNAME:CET
DTSTART:20251026T010000
END:STANDARD
END:VTIMEZONE
BEGIN:VEVENT
DTSTART;TZID=Europe/Paris:20240319T203000
DTEND;TZID=Europe/Paris:20240319T220000
DTSTAMP:20260419T180737
CREATED:20240117T152955Z
LAST-MODIFIED:20240117T152955Z
UID:17832-1710880200-1710885600@www.auzeville.fr
SUMMARY:Rencontre débat avec Joël Collado (météo/climat) Foyer Rural René Lavergne
DESCRIPTION:
URL:https://www.auzeville.fr/evenement/rencontre-debat-avec-joel-collado-meteo-climat-foyer-rural-rene-lavergne/
LOCATION:salle de la Durante\, 1\, chemin du Moulin Armand\, Auzeville-Tolosane\, 31320\, France
CATEGORIES:Association,Conférence - Débat,Environnement,Foyer Rural René Lavergne
ORGANIZER;CN="Foyer Rural Ren%C3%A9 Lavergne":MAILTO:contact@foyerruralauzeville.org
END:VEVENT
END:VCALENDAR